BEGIN:VCALENDAR
VERSION:2.0
PRODID:-//Trachtengruppe Wangen und Umgebung - ECPv6.15.17.1//NONSGML v1.0//EN
CALSCALE:GREGORIAN
METHOD:PUBLISH
X-ORIGINAL-URL:https://trachtengruppe-wangen.ch
X-WR-CALDESC:Veranstaltungen für Trachtengruppe Wangen und Umgebung
REFRESH-INTERVAL;VALUE=DURATION:PT1H
X-Robots-Tag:noindex
X-PUBLISHED-TTL:PT1H
BEGIN:VTIMEZONE
TZID:Europe/Zurich
BEGIN:DAYLIGHT
TZOFFSETFROM:+0100
TZOFFSETTO:+0200
TZNAME:CEST
DTSTART:20250330T010000
END:DAYLIGHT
BEGIN:STANDARD
TZOFFSETFROM:+0200
TZOFFSETTO:+0100
TZNAME:CET
DTSTART:20251026T010000
END:STANDARD
BEGIN:DAYLIGHT
TZOFFSETFROM:+0100
TZOFFSETTO:+0200
TZNAME:CEST
DTSTART:20260329T010000
END:DAYLIGHT
BEGIN:STANDARD
TZOFFSETFROM:+0200
TZOFFSETTO:+0100
TZNAME:CET
DTSTART:20261025T010000
END:STANDARD
BEGIN:DAYLIGHT
TZOFFSETFROM:+0100
TZOFFSETTO:+0200
TZNAME:CEST
DTSTART:20270328T010000
END:DAYLIGHT
BEGIN:STANDARD
TZOFFSETFROM:+0200
TZOFFSETTO:+0100
TZNAME:CET
DTSTART:20271031T010000
END:STANDARD
END:VTIMEZONE
BEGIN:VEVENT
DTSTART;TZID=Europe/Zurich:20261016T183000
DTEND;TZID=Europe/Zurich:20261016T233000
DTSTAMP:20260419T211958
CREATED:20260302T084539Z
LAST-MODIFIED:20260302T084539Z
UID:2179-1792175400-1792193400@trachtengruppe-wangen.ch
SUMMARY:Offenes Singen und Tanzen
DESCRIPTION:
URL:https://trachtengruppe-wangen.ch/event/offenes-singen-und-tanzen/
LOCATION:Salzhaus\, Wangen a. A.\, Weihergasse 10\, Wangen an der Aare\, 3380\, Switzerland
END:VEVENT
END:VCALENDAR